BEGIN:VCALENDAR
VERSION:2.0
PRODID:-//Library Market//iCal Export//EN
BEGIN:VEVENT
SUMMARY:Scavenger Hunt @ Riley Park
UID:2922
DTSTAMP:20260419T193700Z
DTSTART:20260527T150000Z
DTEND:20260527T163000Z
LOCATION:Riley Park, 585 S Washington St, Delphi, IN 46923, United States
ROOM: Scavenger Hunt @ Riley Park
DESCRIPTION:Join us in Riley Park to participate in a park wide search. Ea
 ch group will receive a list of objects to find, a magnifying glass, and c
 ompass! This is meant to teach them about animals, plants, and how to navi
 gate. No registration required just show up dressed for the weather and re
 ady to search.  
URL:https://delphi.librarycalendar.com/event/scavenger-hunt-riley-park-292
 2
END:VEVENT
END:VCALENDAR
